BEGIN:VCALENDAR
VERSION:2.0
CALSCALE:GREGORIAN
PRODID:-//Diputació de Barcelona//DibaCMS//EN
BEGIN:VEVENT
UID:56404
DTSTAMP:20260421T172715
DTSTART:20221121T000000
DTEND:20221128T000000
SUMMARY:Exposició "Violència masclista a la parella: desmuntem mites?"
LOCATION:Av. Pau Casals, 26 08450 Llinars del Vallès
METHOD:PUBLISH
X-WR-CALNAME:info@llinarsdelvalles.cat
X-WR-TIMEZONE:Europe/Madrid
DESCRIPTION:Exposició a la Biblioteca entorn al 25N, Dia Internacional per a l'eliminació de la violència masclista.

URI:https://www.llinarsdelvalles.cat/actualitat/agenda/exposicio-violencia-masclista-a-la-parella-desmuntem-mites.html
CLASS:PUBLIC
END:VEVENT
END:VCALENDAR
