BEGIN:VCALENDAR
VERSION:2.0
CALSCALE:GREGORIAN
PRODID:-//Diputació de Barcelona//DibaCMS//EN
BEGIN:VEVENT
UID:56408
DTSTAMP:20260421T171836
DTSTART:20221103T173000
DTEND:20221103T173000
SUMMARY:Taller de cinema infantil
LOCATION:Av. Pau Casals, 26 08450 Llinars del Vallès
METHOD:PUBLISH
X-WR-CALNAME:info@llinarsdelvalles.cat
X-WR-TIMEZONE:Europe/Madrid
DESCRIPTION:"Chomon per a la mainada" a càrrec de la Federació Catalana de Cineclubs.

URI:https://www.llinarsdelvalles.cat/actualitat/agenda/taller-de-cinema-infantil.html
CLASS:PUBLIC
END:VEVENT
END:VCALENDAR
