BEGIN:VCALENDAR
VERSION:2.0
CALSCALE:GREGORIAN
PRODID:-//Diputació de Barcelona//DibaCMS//EN
BEGIN:VEVENT
UID:56413
DTSTAMP:20260421T155844
DTSTART:20221102T000000
DTEND:20221102T000000
SUMMARY:Teatre - El sopar dels idiotes
LOCATION:
METHOD:PUBLISH
X-WR-CALNAME:info@llinarsdelvalles.cat
X-WR-TIMEZONE:Europe/Madrid
DESCRIPTION:
URI:https://www.llinarsdelvalles.cat/actualitat/agenda/teatre-el-sopar-dels-idiotes.html
CLASS:PUBLIC
END:VEVENT
END:VCALENDAR
