BEGIN:VCALENDAR
VERSION:2.0
CALSCALE:GREGORIAN
PRODID:-//Diputació de Barcelona//DibaCMS//EN
BEGIN:VEVENT
UID:56415
DTSTAMP:20260421T132009
DTSTART:20221112T200000
DTEND:20221112T200000
SUMMARY:Teatre - El sopar dels idiotes
LOCATION:Ronda Sant Antoni, 19 08450 Llinars del Vallès
METHOD:PUBLISH
X-WR-CALNAME:info@llinarsdelvalles.cat
X-WR-TIMEZONE:Europe/Madrid
DESCRIPTION:Al Teatre Auditori de Llinars.

URI:https://www.llinarsdelvalles.cat/actualitat/agenda/56415-teatre-el-sopar-dels-idiotes.html
CLASS:PUBLIC
END:VEVENT
END:VCALENDAR
