BEGIN:VCALENDAR
VERSION:2.0
CALSCALE:GREGORIAN
PRODID:-//Diputació de Barcelona//DibaCMS//EN
BEGIN:VEVENT
UID:56416
DTSTAMP:20260421T131917
DTSTART:20221119T200000
DTEND:20221119T200000
SUMMARY:Teatre - Mare de sucre
LOCATION:Ronda Sant Antoni, 19 08450 Llinars del Vallès
METHOD:PUBLISH
X-WR-CALNAME:info@llinarsdelvalles.cat
X-WR-TIMEZONE:Europe/Madrid
DESCRIPTION:Al Teatre Auditori de Llinars.

URI:https://www.llinarsdelvalles.cat/actualitat/agenda/teatre-mare-de-sucre.html
CLASS:PUBLIC
END:VEVENT
END:VCALENDAR
