BEGIN:VCALENDAR
VERSION:2.0
CALSCALE:GREGORIAN
PRODID:-//Diputació de Barcelona//DibaCMS//EN
BEGIN:VEVENT
UID:56430
DTSTAMP:20260421T160244
DTSTART:20221102T000000
DTEND:20221130T000000
SUMMARY:Exposició fotogràfica "Recorda-te'n"
LOCATION:Av. Pau Casals, 26 08450 Llinars del Vallès
METHOD:PUBLISH
X-WR-CALNAME:info@llinarsdelvalles.cat
X-WR-TIMEZONE:Europe/Madrid
DESCRIPTION:A càrrec de Jean Herrero.

URI:https://www.llinarsdelvalles.cat/actualitat/agenda/exposicio-fotografica-recorda-ten.html
CLASS:PUBLIC
END:VEVENT
END:VCALENDAR
