BEGIN:VCALENDAR
VERSION:2.0
CALSCALE:GREGORIAN
PRODID:-//Diputació de Barcelona//DibaCMS//EN
BEGIN:VEVENT
UID:56461
DTSTAMP:20260421T160713
DTSTART:20221122T170000
DTEND:20221122T170000
SUMMARY:Inauguració nou espai al club d'escacs
LOCATION:
METHOD:PUBLISH
X-WR-CALNAME:info@llinarsdelvalles.cat
X-WR-TIMEZONE:Europe/Madrid
DESCRIPTION:Espai "Primeres emocions"

URI:https://www.llinarsdelvalles.cat/actualitat/agenda/inauguracio-nou-espai-al-club-descacs.html
CLASS:PUBLIC
END:VEVENT
END:VCALENDAR
