BEGIN:VCALENDAR
VERSION:2.0
CALSCALE:GREGORIAN
PRODID:-//Diputació de Barcelona//DibaCMS//EN
BEGIN:VEVENT
UID:56465
DTSTAMP:20260421T160637
DTSTART:20221127T120000
DTEND:20230115T130000
SUMMARY:Exposició "Meu Jardim"
LOCATION:C/ Frederic Marés (antic CAP) 08450 Llinars del Vallès
METHOD:PUBLISH
X-WR-CALNAME:info@llinarsdelvalles.cat
X-WR-TIMEZONE:Europe/Madrid
DESCRIPTION:Inauguració: diumenge, 27 de novembre, a les 12 h. Visita comentada de la seva artista Aline Costa Miguel.

URI:https://www.llinarsdelvalles.cat/actualitat/agenda/exposicio-meu-jardim.html
CLASS:PUBLIC
END:VEVENT
END:VCALENDAR
