BEGIN:VCALENDAR
VERSION:2.0
CALSCALE:GREGORIAN
PRODID:-//Diputació de Barcelona//DibaCMS//EN
BEGIN:VEVENT
UID:56471
DTSTAMP:20260421T120415
DTSTART:20221213T093000
DTEND:20221213T120000
SUMMARY:Aperitius Nadalencs
LOCATION:C/ Josep Argila, 39 08450 Llinars del Vallés
METHOD:PUBLISH
X-WR-CALNAME:info@llinarsdelvalles.cat
X-WR-TIMEZONE:Europe/Madrid
DESCRIPTION:Taller a càrrec de la Xef Tina.

URI:https://www.llinarsdelvalles.cat/actualitat/agenda/aperitius-nadalencs.html
CLASS:PUBLIC
END:VEVENT
END:VCALENDAR
