BEGIN:VCALENDAR
VERSION:2.0
CALSCALE:GREGORIAN
PRODID:-//Diputació de Barcelona//DibaCMS//EN
BEGIN:VEVENT
UID:56476
DTSTAMP:20260421T131802
DTSTART:20221201T000000
DTEND:20221223T000000
SUMMARY:Exposició d'obres dels alumnes de Les Relíquies de l'Art
LOCATION:Av. Pau Casals, 26 08450 Llinars del Vallès
METHOD:PUBLISH
X-WR-CALNAME:info@llinarsdelvalles.cat
X-WR-TIMEZONE:Europe/Madrid
DESCRIPTION:curs 2021-22.

URI:https://www.llinarsdelvalles.cat/actualitat/agenda/exposicio-dobres-dels-alumnes-de-les-reliquies-de-lart.html
CLASS:PUBLIC
END:VEVENT
END:VCALENDAR
