BEGIN:VCALENDAR
VERSION:2.0
CALSCALE:GREGORIAN
PRODID:-//Diputació de Barcelona//DibaCMS//EN
BEGIN:VEVENT
UID:56478
DTSTAMP:20260421T160830
DTSTART:20221202T183000
DTEND:20221202T183000
SUMMARY:Xerrada "La Marató per la salut cardiovascular"
LOCATION:Av. Pau Casals, 26 08450 Llinars del Vallès
METHOD:PUBLISH
X-WR-CALNAME:info@llinarsdelvalles.cat
X-WR-TIMEZONE:Europe/Madrid
DESCRIPTION:Bum Bum!

URI:https://www.llinarsdelvalles.cat/actualitat/agenda/xerrada-la-marato-per-la-salut-cardiovascular.html
CLASS:PUBLIC
END:VEVENT
END:VCALENDAR
