BEGIN:VCALENDAR
VERSION:2.0
CALSCALE:GREGORIAN
PRODID:-//Diputació de Barcelona//DibaCMS//EN
BEGIN:VEVENT
UID:56488
DTSTAMP:20260421T092943
DTSTART:20221215T173000
DTEND:20221215T173000
SUMMARY:Taller adults - Iniciació a l'enquadernació
LOCATION:Av. Pau Casals, 26 08450 Llinars del Vallès
METHOD:PUBLISH
X-WR-CALNAME:info@llinarsdelvalles.cat
X-WR-TIMEZONE:Europe/Madrid
DESCRIPTION:A càrrec d'Helena Vilasante.

URI:https://www.llinarsdelvalles.cat/actualitat/agenda/taller-adults-iniciacio-a-lenquadernacio.html
CLASS:PUBLIC
END:VEVENT
END:VCALENDAR
