BEGIN:VCALENDAR
VERSION:2.0
CALSCALE:GREGORIAN
PRODID:-//Diputació de Barcelona//DibaCMS//EN
BEGIN:VEVENT
UID:56490
DTSTAMP:20260421T172624
DTSTART:20221218T100000
DTEND:20221218T140000
SUMMARY:Market de Nadal
LOCATION:
METHOD:PUBLISH
X-WR-CALNAME:info@llinarsdelvalles.cat
X-WR-TIMEZONE:Europe/Madrid
DESCRIPTION:Organitzat per la UBIC.

URI:https://www.llinarsdelvalles.cat/actualitat/agenda/56490-market-de-nadal.html
CLASS:PUBLIC
END:VEVENT
END:VCALENDAR
