BEGIN:VCALENDAR
VERSION:2.0
CALSCALE:GREGORIAN
PRODID:-//Diputació de Barcelona//DibaCMS//EN
BEGIN:VEVENT
UID:56495
DTSTAMP:20260421T160901
DTSTART:20221227T163000
DTEND:20221230T200000
SUMMARY:Parc de Nadal Solidari
LOCATION:Av. Pau Casals, 22-24 (Àrea central) 08450 Llinars del Vallès
METHOD:PUBLISH
X-WR-CALNAME:info@llinarsdelvalles.cat
X-WR-TIMEZONE:Europe/Madrid
DESCRIPTION:Per accedir cal que porteu un aliment de llarga caducitat.

URI:https://www.llinarsdelvalles.cat/actualitat/agenda/56495-parc-de-nadal-solidari.html
CLASS:PUBLIC
END:VEVENT
END:VCALENDAR
