BEGIN:VCALENDAR
VERSION:2.0
CALSCALE:GREGORIAN
PRODID:-//Diputació de Barcelona//DibaCMS//EN
BEGIN:VEVENT
UID:56501
DTSTAMP:20260421T115300
DTSTART:20230112T190000
DTEND:20230112T190000
SUMMARY:Xerrada "Can Casas, un edifici amb molta història"
LOCATION:Av. Pau Casals, 26 08450 Llinars del Vallès
METHOD:PUBLISH
X-WR-CALNAME:info@llinarsdelvalles.cat
X-WR-TIMEZONE:Europe/Madrid
DESCRIPTION:A càrrec d'Albert Gómez, responsable de l'Arxiu de l'Ajuntament de Llinars del Vallès.
Celebrem 100 anys de l'edifici i 20 de la Biblioteca.

URI:https://www.llinarsdelvalles.cat/actualitat/agenda/xerrada-can-casas-un-edifici-amb-molta-historia.html
CLASS:PUBLIC
END:VEVENT
END:VCALENDAR
