BEGIN:VCALENDAR
VERSION:2.0
CALSCALE:GREGORIAN
PRODID:-//Diputació de Barcelona//DibaCMS//EN
BEGIN:VEVENT
UID:56502
DTSTAMP:20260421T065843
DTSTART:20230113T173000
DTEND:20230113T173000
SUMMARY:Taller infantil bibliolab "Som astronautes"
LOCATION:Av. Pau Casals, 26 08450 Llinars del Vallès
METHOD:PUBLISH
X-WR-CALNAME:info@llinarsdelvalles.cat
X-WR-TIMEZONE:Europe/Madrid
DESCRIPTION:Amb LEGO Eduaction, a càrrec d'Edukem-nos.

URI:https://www.llinarsdelvalles.cat/actualitat/agenda/taller-infantil-bibliolab-som-astronautes.html
CLASS:PUBLIC
END:VEVENT
END:VCALENDAR
