BEGIN:VCALENDAR
VERSION:2.0
CALSCALE:GREGORIAN
PRODID:-//Diputació de Barcelona//DibaCMS//EN
BEGIN:VEVENT
UID:56505
DTSTAMP:20260421T144010
DTSTART:20221218T183000
DTEND:20221218T183000
SUMMARY:Concert de Nadal de l'Escola de Música
LOCATION:Ronda Sant Antoni, 19 08450 Llinars del Vallès
METHOD:PUBLISH
X-WR-CALNAME:info@llinarsdelvalles.cat
X-WR-TIMEZONE:Europe/Madrid
DESCRIPTION:Cor a-sons i cor u-sound.

URI:https://www.llinarsdelvalles.cat/actualitat/agenda/56505-concert-de-nadal-de-lescola-de-musica.html
CLASS:PUBLIC
END:VEVENT
END:VCALENDAR
