BEGIN:VCALENDAR
VERSION:2.0
CALSCALE:GREGORIAN
PRODID:-//Diputació de Barcelona//DibaCMS//EN
BEGIN:VEVENT
UID:56521
DTSTAMP:20260421T131709
DTSTART:20230103T000000
DTEND:20230130T000000
SUMMARY:Exposició 'Història gràfica de Llinars'
LOCATION:Av. Pau Casals, 26 08450 Llinars del Vallès
METHOD:PUBLISH
X-WR-CALNAME:info@llinarsdelvalles.cat
X-WR-TIMEZONE:Europe/Madrid
DESCRIPTION:A càrrec de Pere Serra. 1300 fotografies en blanc i negre del municipi.

URI:https://www.llinarsdelvalles.cat/actualitat/agenda/exposicio-historia-grafica-de-llinars.html
CLASS:PUBLIC
END:VEVENT
END:VCALENDAR
