BEGIN:VCALENDAR
VERSION:2.0
CALSCALE:GREGORIAN
PRODID:-//Diputació de Barcelona//DibaCMS//EN
BEGIN:VEVENT
UID:56527
DTSTAMP:20260421T091944
DTSTART:20230114T110000
DTEND:20230114T110000
SUMMARY:Taller de dibuix de flors de Chita
LOCATION:C/ Frederic Marés (antic CAP) 08450 Llinars del Vallès
METHOD:PUBLISH
X-WR-CALNAME:info@llinarsdelvalles.cat
X-WR-TIMEZONE:Europe/Madrid
DESCRIPTION:Dues sessions: 11 h i 12 h.
Acomiadem l'exposició "Meu Jardim" d'Aline Costa Miguel a l'Espai d'Art amb activitats durant el cap de setmana.

URI:https://www.llinarsdelvalles.cat/actualitat/agenda/taller-de-dibuix-de-flors-de-chita.html
CLASS:PUBLIC
END:VEVENT
END:VCALENDAR
