BEGIN:VCALENDAR
VERSION:2.0
CALSCALE:GREGORIAN
PRODID:-//Diputació de Barcelona//DibaCMS//EN
BEGIN:VEVENT
UID:56528
DTSTAMP:20260421T131727
DTSTART:20230115T120000
DTEND:20230115T120000
SUMMARY:Visita guiada a l'exposició "Meu Jardim"
LOCATION:C/ Frederic Marés (antic CAP) 08450 Llinars del Vallès
METHOD:PUBLISH
X-WR-CALNAME:info@llinarsdelvalles.cat
X-WR-TIMEZONE:Europe/Madrid
DESCRIPTION:L'Aline Costa Miguel ens mostrarà un petit viatge entre la història de la Chita i tota la seva evolució, endinsant-nos en els seus colors a través del seu art.

URI:https://www.llinarsdelvalles.cat/actualitat/agenda/visita-guiada-a-lexposicio-meu-jardim.html
CLASS:PUBLIC
END:VEVENT
END:VCALENDAR
