BEGIN:VCALENDAR
VERSION:2.0
CALSCALE:GREGORIAN
PRODID:-//Diputació de Barcelona//DibaCMS//EN
BEGIN:VEVENT
UID:56529
DTSTAMP:20260421T070043
DTSTART:20230117T173000
DTEND:20230117T173000
SUMMARY:Taller infantil Petits Grans Escriptors
LOCATION:Av. Pau Casals, 26 08450 Llinars del Vallès
METHOD:PUBLISH
X-WR-CALNAME:info@llinarsdelvalles.cat
X-WR-TIMEZONE:Europe/Madrid
DESCRIPTION:Amb Joan de Boer. 
 

URI:https://www.llinarsdelvalles.cat/actualitat/agenda/56529-taller-infantil-petits-grans-escriptors.html
CLASS:PUBLIC
END:VEVENT
END:VCALENDAR
