BEGIN:VCALENDAR
VERSION:2.0
CALSCALE:GREGORIAN
PRODID:-//Diputació de Barcelona//DibaCMS//EN
BEGIN:VEVENT
UID:56546
DTSTAMP:20260421T115417
DTSTART:20230217T170000
DTEND:20230217T170000
SUMMARY:Tallers en família "Creps salades de colors"
LOCATION:C/ Josep Argila, 39 08450 Llinars del Vallés
METHOD:PUBLISH
X-WR-CALNAME:info@llinarsdelvalles.cat
X-WR-TIMEZONE:Europe/Madrid
DESCRIPTION:
URI:https://www.llinarsdelvalles.cat/actualitat/agenda/tallers-en-familia-creps-salades-de-colors.html
CLASS:PUBLIC
END:VEVENT
END:VCALENDAR
