BEGIN:VCALENDAR
VERSION:2.0
CALSCALE:GREGORIAN
PRODID:-//Diputació de Barcelona//DibaCMS//EN
BEGIN:VEVENT
UID:56548
DTSTAMP:20260421T103141
DTSTART:20230324T170000
DTEND:20230324T170000
SUMMARY:Tallers en família "Mona de Pasqua"
LOCATION:
METHOD:PUBLISH
X-WR-CALNAME:info@llinarsdelvalles.cat
X-WR-TIMEZONE:Europe/Madrid
DESCRIPTION:
URI:https://www.llinarsdelvalles.cat/actualitat/agenda/tallers-en-familia-mona-de-pasqua.html
CLASS:PUBLIC
END:VEVENT
END:VCALENDAR
