BEGIN:VCALENDAR
VERSION:2.0
CALSCALE:GREGORIAN
PRODID:-//Diputació de Barcelona//DibaCMS//EN
BEGIN:VEVENT
UID:56549
DTSTAMP:20260421T160525
DTSTART:20230207T183000
DTEND:20230207T200000
SUMMARY:Jornades educatives "Com posar límits efectius a les pantalles"
LOCATION:C/ Josep Argila, 39 08450 Llinars del Vallés
METHOD:PUBLISH
X-WR-CALNAME:info@llinarsdelvalles.cat
X-WR-TIMEZONE:Europe/Madrid
DESCRIPTION:De l'escola a la família, i de la família a tu.

URI:https://www.llinarsdelvalles.cat/actualitat/agenda/jornades-educatives-com-posar-limits-efectius-a-les-pantalles.html
CLASS:PUBLIC
END:VEVENT
END:VCALENDAR
