BEGIN:VCALENDAR
VERSION:2.0
CALSCALE:GREGORIAN
PRODID:-//Diputació de Barcelona//DibaCMS//EN
BEGIN:VEVENT
UID:56556
DTSTAMP:20260421T120254
DTSTART:20230327T183000
DTEND:20230327T183000
SUMMARY:El dol, aprendre a acceptar la pèrdua
LOCATION:Av. Pau Casals, 26 08450 Llinars del Vallès
METHOD:PUBLISH
X-WR-CALNAME:info@llinarsdelvalles.cat
X-WR-TIMEZONE:Europe/Madrid
DESCRIPTION:Trobades per compartir el dol.

URI:https://www.llinarsdelvalles.cat/actualitat/agenda/56556-el-dol-aprendre-a-acceptar-la-perdua.html
CLASS:PUBLIC
END:VEVENT
END:VCALENDAR
