BEGIN:VCALENDAR
VERSION:2.0
CALSCALE:GREGORIAN
PRODID:-//Diputació de Barcelona//DibaCMS//EN
BEGIN:VEVENT
UID:56561
DTSTAMP:20260421T120204
DTSTART:20230129T120000
DTEND:20230129T120000
SUMMARY:Espectacle familiar al TA - Impossible?
LOCATION:Ronda Sant Antoni, 19 08450 Llinars del Vallès
METHOD:PUBLISH
X-WR-CALNAME:info@llinarsdelvalles.cat
X-WR-TIMEZONE:Europe/Madrid
DESCRIPTION:Després de l'actuació taller gratuït per als infants que hi vulguin participar.

URI:https://www.llinarsdelvalles.cat/actualitat/agenda/espectacle-familiar-al-ta-impossible.html
CLASS:PUBLIC
END:VEVENT
END:VCALENDAR
