BEGIN:VCALENDAR
VERSION:2.0
CALSCALE:GREGORIAN
PRODID:-//Diputació de Barcelona//DibaCMS//EN
BEGIN:VEVENT
UID:56563
DTSTAMP:20260421T115545
DTSTART:20230129T180000
DTEND:20230129T180000
SUMMARY:Projecció de la pel·lícula "Gordon i Paddy"
LOCATION:
METHOD:PUBLISH
X-WR-CALNAME:info@llinarsdelvalles.cat
X-WR-TIMEZONE:Europe/Madrid
DESCRIPTION:Al Centre Excursionista de Llinars, a la plaça dels Països Catalans.

URI:https://www.llinarsdelvalles.cat/actualitat/agenda/projeccio-de-la-pellicula-gordon-i-paddy.html
CLASS:PUBLIC
END:VEVENT
END:VCALENDAR
