BEGIN:VCALENDAR
VERSION:2.0
CALSCALE:GREGORIAN
PRODID:-//Diputació de Barcelona//DibaCMS//EN
BEGIN:VEVENT
UID:56570
DTSTAMP:20260421T091917
DTSTART:20230204T110000
DTEND:20230204T110000
SUMMARY:Xerrada a famílies - Les "Rebequeries": acompanyar amb respecte i amor
LOCATION:Av. Pau Casals, 26 08450 Llinars del Vallès
METHOD:PUBLISH
X-WR-CALNAME:info@llinarsdelvalles.cat
X-WR-TIMEZONE:Europe/Madrid
DESCRIPTION:A càrrec de Cristina Oliva, periodista, assessora de criança i doula.

URI:https://www.llinarsdelvalles.cat/actualitat/agenda/xerrada-a-families-les-rebequeries-acompanyar-amb-respecte-i-amor.html
CLASS:PUBLIC
END:VEVENT
END:VCALENDAR
