BEGIN:VCALENDAR
VERSION:2.0
CALSCALE:GREGORIAN
PRODID:-//Diputació de Barcelona//DibaCMS//EN
BEGIN:VEVENT
UID:56573
DTSTAMP:20260421T131324
DTSTART:20230216T000000
DTEND:20230222T000000
SUMMARY:Carnestoltes i Gitanes 2023
LOCATION:
METHOD:PUBLISH
X-WR-CALNAME:info@llinarsdelvalles.cat
X-WR-TIMEZONE:Europe/Madrid
DESCRIPTION:Del 16 al 22 de febrer.

URI:https://www.llinarsdelvalles.cat/actualitat/agenda/carnestoltes-i-gitanes-2023.html
CLASS:PUBLIC
END:VEVENT
END:VCALENDAR
