BEGIN:VCALENDAR
VERSION:2.0
CALSCALE:GREGORIAN
PRODID:-//Diputació de Barcelona//DibaCMS//EN
BEGIN:VEVENT
UID:56581
DTSTAMP:20260421T092044
DTSTART:20230211T200000
DTEND:20230211T200000
SUMMARY:Teatre - La Trena
LOCATION:Ronda Sant Antoni, 19 08450 Llinars del Vallès
METHOD:PUBLISH
X-WR-CALNAME:info@llinarsdelvalles.cat
X-WR-TIMEZONE:Europe/Madrid
DESCRIPTION:
URI:https://www.llinarsdelvalles.cat/actualitat/agenda/teatre-la-trena.html
CLASS:PUBLIC
END:VEVENT
END:VCALENDAR
