BEGIN:VCALENDAR
VERSION:2.0
CALSCALE:GREGORIAN
PRODID:-//Diputació de Barcelona//DibaCMS//EN
BEGIN:VEVENT
UID:56582
DTSTAMP:20260421T091842
DTSTART:20230212T120000
DTEND:20230212T120000
SUMMARY:Teatre familiar - Sense Lluna
LOCATION:Ronda Sant Antoni, 19 08450 Llinars del Vallès
METHOD:PUBLISH
X-WR-CALNAME:info@llinarsdelvalles.cat
X-WR-TIMEZONE:Europe/Madrid
DESCRIPTION:
URI:https://www.llinarsdelvalles.cat/actualitat/agenda/teatre-familiar-sense-lluna.html
CLASS:PUBLIC
END:VEVENT
END:VCALENDAR
