BEGIN:VCALENDAR
VERSION:2.0
CALSCALE:GREGORIAN
PRODID:-//Diputació de Barcelona//DibaCMS//EN
BEGIN:VEVENT
UID:56585
DTSTAMP:20260421T172449
DTSTART:20230225T120000
DTEND:20230225T120000
SUMMARY:Dansa circ - Spiralis
LOCATION:
METHOD:PUBLISH
X-WR-CALNAME:info@llinarsdelvalles.cat
X-WR-TIMEZONE:Europe/Madrid
DESCRIPTION:
URI:https://www.llinarsdelvalles.cat/actualitat/agenda/dansa-circ-spiralis.html
CLASS:PUBLIC
END:VEVENT
END:VCALENDAR
