BEGIN:VCALENDAR
VERSION:2.0
CALSCALE:GREGORIAN
PRODID:-//Diputació de Barcelona//DibaCMS//EN
BEGIN:VEVENT
UID:56613
DTSTAMP:20260421T120432
DTSTART:20230209T180000
DTEND:20230209T180000
SUMMARY:Taller adults - Estampació sobre roba
LOCATION:Av. Pau Casals, 26 08450 Llinars del Vallès
METHOD:PUBLISH
X-WR-CALNAME:info@llinarsdelvalles.cat
X-WR-TIMEZONE:Europe/Madrid
DESCRIPTION:A càrrec de Gemma Palau.

URI:https://www.llinarsdelvalles.cat/actualitat/agenda/taller-adults-estampacio-sobre-roba.html
CLASS:PUBLIC
END:VEVENT
END:VCALENDAR
