BEGIN:VCALENDAR
VERSION:2.0
CALSCALE:GREGORIAN
PRODID:-//Diputació de Barcelona//DibaCMS//EN
BEGIN:VEVENT
UID:56619
DTSTAMP:20260421T092739
DTSTART:20230217T190000
DTEND:20230217T190000
SUMMARY:Presentació del llibre "Llinars del Vallès els darrers dies de desembre de 1594: una altra data memorable de la seva història"
LOCATION:08450 Llinars del Vallès
METHOD:PUBLISH
X-WR-CALNAME:info@llinarsdelvalles.cat
X-WR-TIMEZONE:Europe/Madrid
DESCRIPTION:A càrrec dels seus autors: Jesús Alturo i Tània Talaix.

URI:https://www.llinarsdelvalles.cat/actualitat/agenda/presentacio-del-llibre-llinars-del-valles-els-darrers-dies-de-desembre-de-1594-una-altra-data-memorable-de-la-seva-historia.html
CLASS:PUBLIC
END:VEVENT
END:VCALENDAR
