BEGIN:VCALENDAR
VERSION:2.0
CALSCALE:GREGORIAN
PRODID:-//Diputació de Barcelona//DibaCMS//EN
BEGIN:VEVENT
UID:56621
DTSTAMP:20260421T092434
DTSTART:20230218T110000
DTEND:20230218T110000
SUMMARY:Hora menuda - L'hora del bany
LOCATION:
METHOD:PUBLISH
X-WR-CALNAME:info@llinarsdelvalles.cat
X-WR-TIMEZONE:Europe/Madrid
DESCRIPTION:A càrrec de Cia Patawa.

URI:https://www.llinarsdelvalles.cat/actualitat/agenda/hora-menuda-lhora-del-bany.html
CLASS:PUBLIC
END:VEVENT
END:VCALENDAR
