BEGIN:VCALENDAR
VERSION:2.0
CALSCALE:GREGORIAN
PRODID:-//Diputació de Barcelona//DibaCMS//EN
BEGIN:VEVENT
UID:56622
DTSTAMP:20260421T132116
DTSTART:20230223T180000
DTEND:20230223T180000
SUMMARY:Concurs infantil interactiu en anglès
LOCATION:Av. Pau Casals, 26 08450 Llinars del Vallès
METHOD:PUBLISH
X-WR-CALNAME:info@llinarsdelvalles.cat
X-WR-TIMEZONE:Europe/Madrid
DESCRIPTION:A càrrec de la Cambridge School.

URI:https://www.llinarsdelvalles.cat/actualitat/agenda/concurs-infantil-interactiu-en-angles.html
CLASS:PUBLIC
END:VEVENT
END:VCALENDAR
