BEGIN:VCALENDAR
VERSION:2.0
CALSCALE:GREGORIAN
PRODID:-//Diputació de Barcelona//DibaCMS//EN
BEGIN:VEVENT
UID:56623
DTSTAMP:20260421T161052
DTSTART:20230223T170000
DTEND:20230223T170000
SUMMARY:Hora del conte - La veritat de les princeses
LOCATION:Av. Pau Casals, 26 08450 Llinars del Vallès
METHOD:PUBLISH
X-WR-CALNAME:info@llinarsdelvalles.cat
X-WR-TIMEZONE:Europe/Madrid
DESCRIPTION:A càrrec de Clara Algaba.

URI:https://www.llinarsdelvalles.cat/actualitat/agenda/hora-del-conte-la-veritat-de-les-princeses.html
CLASS:PUBLIC
END:VEVENT
END:VCALENDAR
