BEGIN:VCALENDAR
VERSION:2.0
CALSCALE:GREGORIAN
PRODID:-//Diputació de Barcelona//DibaCMS//EN
BEGIN:VEVENT
UID:56625
DTSTAMP:20260421T161107
DTSTART:20230228T173000
DTEND:20230228T173000
SUMMARY:Story Time "Goldilocks and the three bears"
LOCATION:Av. Pau Casals, 26 08450 Llinars del Vallès
METHOD:PUBLISH
X-WR-CALNAME:info@llinarsdelvalles.cat
X-WR-TIMEZONE:Europe/Madrid
DESCRIPTION:Hora del conte en anglès a càrrec de la Cambridge School.

URI:https://www.llinarsdelvalles.cat/actualitat/agenda/story-time-goldilocks-and-the-three-bears.html
CLASS:PUBLIC
END:VEVENT
END:VCALENDAR
