BEGIN:VCALENDAR
VERSION:2.0
CALSCALE:GREGORIAN
PRODID:-//Diputació de Barcelona//DibaCMS//EN
BEGIN:VEVENT
UID:56626
DTSTAMP:20260421T144107
DTSTART:20230210T140000
DTEND:20230210T160000
SUMMARY:Portes Obertes curs 2023-24 - escoles de Llinars
LOCATION:
METHOD:PUBLISH
X-WR-CALNAME:info@llinarsdelvalles.cat
X-WR-TIMEZONE:Europe/Madrid
DESCRIPTION:International Rural School.

URI:https://www.llinarsdelvalles.cat/actualitat/agenda/portes-obertes-curs-2023-24-escoles-de-llinars.html
CLASS:PUBLIC
END:VEVENT
END:VCALENDAR
