BEGIN:VCALENDAR
VERSION:2.0
CALSCALE:GREGORIAN
PRODID:-//Diputació de Barcelona//DibaCMS//EN
BEGIN:VEVENT
UID:56627
DTSTAMP:20260421T093020
DTSTART:20230211T000000
DTEND:20230212T000000
SUMMARY:Portes Obertes curs 2023-24 - escoles de Llinars
LOCATION:
METHOD:PUBLISH
X-WR-CALNAME:info@llinarsdelvalles.cat
X-WR-TIMEZONE:Europe/Madrid
DESCRIPTION:Escola Ginebró.
Cita prèvia a www.ginebro.cat/portes-obertes

URI:https://www.llinarsdelvalles.cat/actualitat/agenda/56627-portes-obertes-curs-2023-24-escoles-de-llinars.html
CLASS:PUBLIC
END:VEVENT
END:VCALENDAR
