BEGIN:VCALENDAR
VERSION:2.0
CALSCALE:GREGORIAN
PRODID:-//Diputació de Barcelona//DibaCMS//EN
BEGIN:VEVENT
UID:56629
DTSTAMP:20260421T120315
DTSTART:20230228T170000
DTEND:20230228T170000
SUMMARY:Portes Obertes curs 2023-24 - escoles de Llinars
LOCATION:
METHOD:PUBLISH
X-WR-CALNAME:info@llinarsdelvalles.cat
X-WR-TIMEZONE:Europe/Madrid
DESCRIPTION:Institut Giola.
28 febrer 17 h: educació secundària.
15 d'abril 11 h: Batxillerat i cicles formatius

URI:https://www.llinarsdelvalles.cat/actualitat/agenda/56629-portes-obertes-curs-2023-24-escoles-de-llinars.html
CLASS:PUBLIC
END:VEVENT
END:VCALENDAR
