BEGIN:VCALENDAR
VERSION:2.0
CALSCALE:GREGORIAN
PRODID:-//Diputació de Barcelona//DibaCMS//EN
BEGIN:VEVENT
UID:56630
DTSTAMP:20260421T043144
DTSTART:20230415T110000
DTEND:20230415T110000
SUMMARY:Portes Obertes curs 2023-24 - escoles de Llinars
LOCATION:
METHOD:PUBLISH
X-WR-CALNAME:info@llinarsdelvalles.cat
X-WR-TIMEZONE:Europe/Madrid
DESCRIPTION:Institut Giola: Batxillerat i cicles formatius

URI:https://www.llinarsdelvalles.cat/actualitat/agenda/56630-portes-obertes-curs-2023-24-escoles-de-llinars.html
CLASS:PUBLIC
END:VEVENT
END:VCALENDAR
