BEGIN:VCALENDAR
VERSION:2.0
CALSCALE:GREGORIAN
PRODID:-//Diputació de Barcelona//DibaCMS//EN
BEGIN:VEVENT
UID:56640
DTSTAMP:20260421T160959
DTSTART:20230225T103000
DTEND:20230225T190000
SUMMARY:Xocolatada solidària per la investigació del càncer infantil
LOCATION:Plaça dels Països Catalans 
METHOD:PUBLISH
X-WR-CALNAME:info@llinarsdelvalles.cat
X-WR-TIMEZONE:Europe/Madrid
DESCRIPTION:Amb diverses activitats durant tot el dia:

URI:https://www.llinarsdelvalles.cat/actualitat/agenda/xocolatada-solidaria-per-la-investigacio-del-cancer-infantil.html
CLASS:PUBLIC
END:VEVENT
END:VCALENDAR
