BEGIN:VCALENDAR
VERSION:2.0
CALSCALE:GREGORIAN
PRODID:-//Diputació de Barcelona//DibaCMS//EN
BEGIN:VEVENT
UID:56644
DTSTAMP:20260421T120223
DTSTART:20230303T190000
DTEND:20230303T190000
SUMMARY:Espectacle "Jo, com a dona, soc més King Kong que Kate Moss"
LOCATION:Av. Pau Casals, 26 08450 Llinars del Vallès
METHOD:PUBLISH
X-WR-CALNAME:info@llinarsdelvalles.cat
X-WR-TIMEZONE:Europe/Madrid
DESCRIPTION:Activitat emmarcada dintre de la programació de la Setmana de les Dones, que tindrà lloc a la Biblioteca Can Casas.

URI:https://www.llinarsdelvalles.cat/actualitat/agenda/espectacle-jo-com-a-dona-soc-mes-king-kong-que-kate-moss.html
CLASS:PUBLIC
END:VEVENT
END:VCALENDAR
