BEGIN:VCALENDAR
VERSION:2.0
CALSCALE:GREGORIAN
PRODID:-//Diputació de Barcelona//DibaCMS//EN
BEGIN:VEVENT
UID:56645
DTSTAMP:20260421T131938
DTSTART:20230302T000000
DTEND:20230331T000000
SUMMARY:Exposició "La menstruació al Nepal, un turment cultural"
LOCATION:Av. Pau Casals, 26 08450 Llinars del Vallès
METHOD:PUBLISH
X-WR-CALNAME:info@llinarsdelvalles.cat
X-WR-TIMEZONE:Europe/Madrid
DESCRIPTION:Exposició emmarcada dintre de la programació de la Setmana de les Dones, que tindrà lloc a la Biblioteca Can Casas.

URI:https://www.llinarsdelvalles.cat/actualitat/agenda/exposicio-la-menstruacio-al-nepal-un-turment-cultural.html
CLASS:PUBLIC
END:VEVENT
END:VCALENDAR
