BEGIN:VCALENDAR
VERSION:2.0
CALSCALE:GREGORIAN
PRODID:-//Diputació de Barcelona//DibaCMS//EN
BEGIN:VEVENT
UID:56648
DTSTAMP:20260421T172111
DTSTART:20230304T103000
DTEND:20230304T103000
SUMMARY:Taller grupal "Dones conscients"
LOCATION:C/ Josep Argila, 39 08450 Llinars del Vallés
METHOD:PUBLISH
X-WR-CALNAME:info@llinarsdelvalles.cat
X-WR-TIMEZONE:Europe/Madrid
DESCRIPTION:Activitat emmarcada dintre de la programació de la Setmana de les Dones, que tindrà lloc a Can Lletres a càrrec de la Marian Cortina.

URI:https://www.llinarsdelvalles.cat/actualitat/agenda/taller-grupal-dones-conscients.html
CLASS:PUBLIC
END:VEVENT
END:VCALENDAR
