BEGIN:VCALENDAR
VERSION:2.0
CALSCALE:GREGORIAN
PRODID:-//Diputació de Barcelona//DibaCMS//EN
BEGIN:VEVENT
UID:56649
DTSTAMP:20260421T131839
DTSTART:20230304T120000
DTEND:20230304T120000
SUMMARY:Taller de relaxació, meditació i gestió emocional
LOCATION:C/ Josep Argila, 39 08450 Llinars del Vallés
METHOD:PUBLISH
X-WR-CALNAME:info@llinarsdelvalles.cat
X-WR-TIMEZONE:Europe/Madrid
DESCRIPTION:Activitat emmarcada dintre de la programació de la Setmana de les Dones, que tindrà lloc a Can Lletres, a càrrec de l'Anna Teruel.

URI:https://www.llinarsdelvalles.cat/actualitat/agenda/taller-de-relaxacio-meditacio-i-gestio-emocional.html
CLASS:PUBLIC
END:VEVENT
END:VCALENDAR
