BEGIN:VCALENDAR
VERSION:2.0
CALSCALE:GREGORIAN
PRODID:-//Diputació de Barcelona//DibaCMS//EN
BEGIN:VEVENT
UID:56650
DTSTAMP:20260421T161231
DTSTART:20230304T173000
DTEND:20230304T173000
SUMMARY:Cinefòrum "La fuente de las mujeres"
LOCATION:C/ Josep Argila, 39 08450 Llinars del Vallés
METHOD:PUBLISH
X-WR-CALNAME:info@llinarsdelvalles.cat
X-WR-TIMEZONE:Europe/Madrid
DESCRIPTION:Activitat emmarcada dintre de la programació de la Setmana de les Dones, que tindrà lloc a Can Lletres.

URI:https://www.llinarsdelvalles.cat/actualitat/agenda/cineforum-la-fuente-de-las-mujeres.html
CLASS:PUBLIC
END:VEVENT
END:VCALENDAR
