BEGIN:VCALENDAR
VERSION:2.0
CALSCALE:GREGORIAN
PRODID:-//Diputació de Barcelona//DibaCMS//EN
BEGIN:VEVENT
UID:56651
DTSTAMP:20260421T144139
DTSTART:20230305T090000
DTEND:20230305T150000
SUMMARY:Jornada de partits de volei femení
LOCATION:Av. Pau Casals, 18-20 (Àrea central) 08450 Llinars del Vallès
METHOD:PUBLISH
X-WR-CALNAME:info@llinarsdelvalles.cat
X-WR-TIMEZONE:Europe/Madrid
DESCRIPTION:Activitat emmarcada dintre de la programació de la Setmana de les Dones, que tindrà lloc al Pavelló Municiapl d'Esports.

URI:https://www.llinarsdelvalles.cat/actualitat/agenda/jornada-de-partits-de-volei-femeni.html
CLASS:PUBLIC
END:VEVENT
END:VCALENDAR
