BEGIN:VCALENDAR
VERSION:2.0
CALSCALE:GREGORIAN
PRODID:-//Diputació de Barcelona//DibaCMS//EN
BEGIN:VEVENT
UID:56652
DTSTAMP:20260421T054249
DTSTART:20230306T183000
DTEND:20230306T183000
SUMMARY:Conversa entre dones
LOCATION:Av. Pau Casals, 26 08450 Llinars del Vallès
METHOD:PUBLISH
X-WR-CALNAME:info@llinarsdelvalles.cat
X-WR-TIMEZONE:Europe/Madrid
DESCRIPTION:Activitat emmarcada dintre de la programació de la Setmana de les Dones, que tindrà lloc a la Biblioteca Can Casas, a càrrec de l'Associació Dones de Llinars i el Punt Dona.

URI:https://www.llinarsdelvalles.cat/actualitat/agenda/conversa-entre-dones.html
CLASS:PUBLIC
END:VEVENT
END:VCALENDAR
